BEGIN:VCALENDAR
VERSION:2.0
PRODID:-//Schrems West Michigan Trout Unlimited - ECPv6.15.18//NONSGML v1.0//EN
CALSCALE:GREGORIAN
METHOD:PUBLISH
X-ORIGINAL-URL:https://swmtu.org
X-WR-CALDESC:Events for Schrems West Michigan Trout Unlimited
REFRESH-INTERVAL;VALUE=DURATION:PT1H
X-Robots-Tag:noindex
X-PUBLISHED-TTL:PT1H
BEGIN:VTIMEZONE
TZID:America/Detroit
BEGIN:DAYLIGHT
TZOFFSETFROM:-0500
TZOFFSETTO:-0400
TZNAME:EDT
DTSTART:20180311T070000
END:DAYLIGHT
BEGIN:STANDARD
TZOFFSETFROM:-0400
TZOFFSETTO:-0500
TZNAME:EST
DTSTART:20181104T060000
END:STANDARD
BEGIN:DAYLIGHT
TZOFFSETFROM:-0500
TZOFFSETTO:-0400
TZNAME:EDT
DTSTART:20190310T070000
END:DAYLIGHT
BEGIN:STANDARD
TZOFFSETFROM:-0400
TZOFFSETTO:-0500
TZNAME:EST
DTSTART:20191103T060000
END:STANDARD
BEGIN:DAYLIGHT
TZOFFSETFROM:-0500
TZOFFSETTO:-0400
TZNAME:EDT
DTSTART:20200308T070000
END:DAYLIGHT
BEGIN:STANDARD
TZOFFSETFROM:-0400
TZOFFSETTO:-0500
TZNAME:EST
DTSTART:20201101T060000
END:STANDARD
BEGIN:DAYLIGHT
TZOFFSETFROM:-0500
TZOFFSETTO:-0400
TZNAME:EDT
DTSTART:20210314T070000
END:DAYLIGHT
BEGIN:STANDARD
TZOFFSETFROM:-0400
TZOFFSETTO:-0500
TZNAME:EST
DTSTART:20211107T060000
END:STANDARD
BEGIN:DAYLIGHT
TZOFFSETFROM:-0500
TZOFFSETTO:-0400
TZNAME:EDT
DTSTART:20220313T070000
END:DAYLIGHT
BEGIN:STANDARD
TZOFFSETFROM:-0400
TZOFFSETTO:-0500
TZNAME:EST
DTSTART:20221106T060000
END:STANDARD
BEGIN:DAYLIGHT
TZOFFSETFROM:-0500
TZOFFSETTO:-0400
TZNAME:EDT
DTSTART:20230312T070000
END:DAYLIGHT
BEGIN:STANDARD
TZOFFSETFROM:-0400
TZOFFSETTO:-0500
TZNAME:EST
DTSTART:20231105T060000
END:STANDARD
END:VTIMEZONE
BEGIN:VEVENT
DTSTART;TZID=America/Detroit:20220304T210000
DTEND;TZID=America/Detroit:20220304T230000
DTSTAMP:20260423T050056
CREATED:20220120T213920Z
LAST-MODIFIED:20220120T213920Z
UID:10000060-1646427600-1646434800@swmtu.org
SUMMARY:2022 Fly Fishing Film Tour
DESCRIPTION:Two shows will happen on Friday\, March 4. Check it out at 6:00 pm and 9:00 pm. Discount tickets are available at Great Lakes Fly Fishing\, Orvis Grand Rapids\, and Nomad Anglers. Or buy tickets online at https://flyfilmtour.myeventscenter.com/event/Grand-Rapids-Mi-2-Shows-58162. \nThe 16th annual F3T is back in action with a top-notch selection of films that are sure to feed your fishing addiction. The 2022 show will feature locations from Costa Rica\, Maryland\, Belize\, Louisiana\, Alabama\, Australia\, Colombia\, and beyond. Follow a legendary spear fisherman across the endless atolls of Belize\, watch as a mother passes her passion for fishing down to the next generation\, and explore the history of one of the most legendary tarpon fisheries in the world at Casa Mar. \n \nThe 2022 Fly Fishing Film Tour is brought to you by: Costa\, Yeti\, Simms\, Scientific Anglers\, Oskar Blues\, Trout Unlimited\, Nokian Tyres\, Gaia GPS\, Abel\, Scientific Anglers\, and Adipose Boatworks
URL:https://swmtu.org/swmtu-event/2022-fly-fishing-film-tour/2022-03-04/2
LOCATION:Wealthy Theatre\, 1130 Wealthy St SE\, Grand Rapids\, MI\, 49503\, United States
CATEGORIES:Movie
ATTACH;FMTTYPE=image/jpeg:https://swmtu.org/wp-content/uploads/2022/01/F3T22_800x450.jpg
GEO:42.9553022;-85.6407653
X-APPLE-STRUCTURED-LOCATION;VALUE=URI;X-ADDRESS=Wealthy Theatre 1130 Wealthy St SE Grand Rapids MI 49503 United States;X-APPLE-RADIUS=500;X-TITLE=1130 Wealthy St SE:geo:-85.6407653,42.9553022
END:VEVENT
BEGIN:VEVENT
DTSTART;TZID=America/Detroit:20220304T180000
DTEND;TZID=America/Detroit:20220304T200000
DTSTAMP:20260423T050056
CREATED:20220120T213920Z
LAST-MODIFIED:20220120T213920Z
UID:10000059-1646416800-1646424000@swmtu.org
SUMMARY:2022 Fly Fishing Film Tour
DESCRIPTION:Two shows will happen on Friday\, March 4. Check it out at 6:00 pm and 9:00 pm. Discount tickets are available at Great Lakes Fly Fishing\, Orvis Grand Rapids\, and Nomad Anglers. Or buy tickets online at https://flyfilmtour.myeventscenter.com/event/Grand-Rapids-Mi-2-Shows-58162. \nThe 16th annual F3T is back in action with a top-notch selection of films that are sure to feed your fishing addiction. The 2022 show will feature locations from Costa Rica\, Maryland\, Belize\, Louisiana\, Alabama\, Australia\, Colombia\, and beyond. Follow a legendary spear fisherman across the endless atolls of Belize\, watch as a mother passes her passion for fishing down to the next generation\, and explore the history of one of the most legendary tarpon fisheries in the world at Casa Mar. \n \nThe 2022 Fly Fishing Film Tour is brought to you by: Costa\, Yeti\, Simms\, Scientific Anglers\, Oskar Blues\, Trout Unlimited\, Nokian Tyres\, Gaia GPS\, Abel\, Scientific Anglers\, and Adipose Boatworks
URL:https://swmtu.org/swmtu-event/2022-fly-fishing-film-tour/2022-03-04/1
LOCATION:Wealthy Theatre\, 1130 Wealthy St SE\, Grand Rapids\, MI\, 49503\, United States
CATEGORIES:Movie
ATTACH;FMTTYPE=image/jpeg:https://swmtu.org/wp-content/uploads/2022/01/F3T22_800x450.jpg
GEO:42.9553022;-85.6407653
X-APPLE-STRUCTURED-LOCATION;VALUE=URI;X-ADDRESS=Wealthy Theatre 1130 Wealthy St SE Grand Rapids MI 49503 United States;X-APPLE-RADIUS=500;X-TITLE=1130 Wealthy St SE:geo:-85.6407653,42.9553022
END:VEVENT
BEGIN:VEVENT
DTSTART;TZID=America/Detroit:20200229T190000
DTEND;TZID=America/Detroit:20200229T200000
DTSTAMP:20260423T050056
CREATED:20200107T142750Z
LAST-MODIFIED:20200107T142750Z
UID:10000027-1583002800-1583006400@swmtu.org
SUMMARY:2020 Fly Fishing Film Tour
DESCRIPTION:The Fly Fishing Film Tour makes a return visit to Grand Rapids in 2020. There’s always a great turnout for this event\, so there are two show times. \nDiscount tickets will be available soon at local fly shops: \nNomad Anglers\nGreat Lakes Fly Fishing\nOrvis Grand Rapids \n \n2020 Fly Fishing Film Tour Stoke Trailer from The Fly Fishing Film Tour on Vimeo.
URL:https://swmtu.org/swmtu-event/2020-fly-fishing-film-tour/2020-02-29/2
LOCATION:Wealthy Theatre\, 1130 Wealthy St SE\, Grand Rapids\, MI\, 49503\, United States
CATEGORIES:Movie
ATTACH;FMTTYPE=image/jpeg:https://swmtu.org/wp-content/uploads/2020/01/F3T_1920x1080_1.jpg
GEO:42.9553022;-85.6407653
X-APPLE-STRUCTURED-LOCATION;VALUE=URI;X-ADDRESS=Wealthy Theatre 1130 Wealthy St SE Grand Rapids MI 49503 United States;X-APPLE-RADIUS=500;X-TITLE=1130 Wealthy St SE:geo:-85.6407653,42.9553022
END:VEVENT
BEGIN:VEVENT
DTSTART;TZID=America/Detroit:20200229T160000
DTEND;TZID=America/Detroit:20200229T170000
DTSTAMP:20260423T050056
CREATED:20200107T142750Z
LAST-MODIFIED:20200107T142750Z
UID:10000026-1582992000-1582995600@swmtu.org
SUMMARY:2020 Fly Fishing Film Tour
DESCRIPTION:The Fly Fishing Film Tour makes a return visit to Grand Rapids in 2020. There’s always a great turnout for this event\, so there are two show times. \nDiscount tickets will be available soon at local fly shops: \nNomad Anglers\nGreat Lakes Fly Fishing\nOrvis Grand Rapids \n \n2020 Fly Fishing Film Tour Stoke Trailer from The Fly Fishing Film Tour on Vimeo.
URL:https://swmtu.org/swmtu-event/2020-fly-fishing-film-tour/2020-02-29/1
LOCATION:Wealthy Theatre\, 1130 Wealthy St SE\, Grand Rapids\, MI\, 49503\, United States
CATEGORIES:Movie
ATTACH;FMTTYPE=image/jpeg:https://swmtu.org/wp-content/uploads/2020/01/F3T_1920x1080_1.jpg
GEO:42.9553022;-85.6407653
X-APPLE-STRUCTURED-LOCATION;VALUE=URI;X-ADDRESS=Wealthy Theatre 1130 Wealthy St SE Grand Rapids MI 49503 United States;X-APPLE-RADIUS=500;X-TITLE=1130 Wealthy St SE:geo:-85.6407653,42.9553022
END:VEVENT
BEGIN:VEVENT
DTSTART;TZID=America/Detroit:20191005T160000
DTEND;TZID=America/Detroit:20191005T180000
DTSTAMP:20260423T050056
CREATED:20191001T231908Z
LAST-MODIFIED:20191001T231908Z
UID:10000017-1570291200-1570298400@swmtu.org
SUMMARY:50/50 On The Water Film Tour
DESCRIPTION:Join Orvis in inspiring\, empowering\, and celebrating women in the sport of fly fishing through a family-friendly night of film and fellowship.
URL:https://swmtu.org/swmtu-event/50-50-on-the-water-film-tour
LOCATION:Orvis Grand Rapids\, 1954 Breton Road SE\, Grand Rapids\, MI\, United States
CATEGORIES:Movie
ATTACH;FMTTYPE=image/png:https://swmtu.org/wp-content/uploads/2019/10/Screen-Shot-2019-10-01-at-7.17.46-PM.png
GEO:42.9279837;-85.6089423
X-APPLE-STRUCTURED-LOCATION;VALUE=URI;X-ADDRESS=Orvis Grand Rapids 1954 Breton Road SE Grand Rapids MI United States;X-APPLE-RADIUS=500;X-TITLE=1954 Breton Road SE:geo:-85.6089423,42.9279837
END:VEVENT
END:VCALENDAR