BEGIN:VCALENDAR
VERSION:2.0
PRODID:-//Schrems West Michigan Trout Unlimited - ECPv6.15.18//NONSGML v1.0//EN
CALSCALE:GREGORIAN
METHOD:PUBLISH
X-WR-CALNAME:Schrems West Michigan Trout Unlimited
X-ORIGINAL-URL:https://swmtu.org
X-WR-CALDESC:Events for Schrems West Michigan Trout Unlimited
REFRESH-INTERVAL;VALUE=DURATION:PT1H
X-Robots-Tag:noindex
X-PUBLISHED-TTL:PT1H
BEGIN:VTIMEZONE
TZID:America/Detroit
BEGIN:DAYLIGHT
TZOFFSETFROM:-0500
TZOFFSETTO:-0400
TZNAME:EDT
DTSTART:20190310T070000
END:DAYLIGHT
BEGIN:STANDARD
TZOFFSETFROM:-0400
TZOFFSETTO:-0500
TZNAME:EST
DTSTART:20191103T060000
END:STANDARD
BEGIN:DAYLIGHT
TZOFFSETFROM:-0500
TZOFFSETTO:-0400
TZNAME:EDT
DTSTART:20200308T070000
END:DAYLIGHT
BEGIN:STANDARD
TZOFFSETFROM:-0400
TZOFFSETTO:-0500
TZNAME:EST
DTSTART:20201101T060000
END:STANDARD
BEGIN:DAYLIGHT
TZOFFSETFROM:-0500
TZOFFSETTO:-0400
TZNAME:EDT
DTSTART:20210314T070000
END:DAYLIGHT
BEGIN:STANDARD
TZOFFSETFROM:-0400
TZOFFSETTO:-0500
TZNAME:EST
DTSTART:20211107T060000
END:STANDARD
END:VTIMEZONE
BEGIN:VEVENT
DTSTART;VALUE=DATE:20201009
DTEND;VALUE=DATE:20201014
DTSTAMP:20260425T150608
CREATED:20201006T231200Z
LAST-MODIFIED:20201006T231332Z
UID:10000040-1602201600-1602633599@swmtu.org
SUMMARY:Schrems TU Conservation Benefit Auction
DESCRIPTION:Instead of an in-person banquet\, SWMTU is holding an online auction to continue its support of conservation and education programs for West Michigan coldwater fisheries. \nFunds raised go toward support of these projects … \n\nSalmon in the Classroom\nMuskegon River watershed project\nPrairie Creek watershed project\nColdwater River watershed management plans\nBuck Creek watershed management plans\nWomen on the Water events\nInner-city youth to MITU Kids Trout Camp\nRiver clean-ups in West Michigan\nSupport of the TU Rogue River HRI program\nSchrems scholarship at MSU\nSupport of Project Healing Waters\nSupport of Reel Recovery
URL:https://swmtu.org/swmtu-event/schrems-tu-conservation-benefit-auction
LOCATION:MI\, United States
CATEGORIES:Banquet
ATTACH;FMTTYPE=image/jpeg:https://swmtu.org/wp-content/uploads/2020/09/online-auction-854x582-1.jpg
END:VEVENT
END:VCALENDAR